BEGIN:VCALENDAR
VERSION:2.0
METHOD:PUBLISH
BEGIN:VEVENT
UID:WILD_APRICOT_EVENT_2747863_SESSION_1
DTSTART:20180131T063000Z
DTEND:20180131T063000Z
SUMMARY:January Social Evening
LOCATION:Senior Citizens Hall\, 7 The Strand\, Takapuna
DESCRIPTION:https://www.nstc.org.nz/event-2747863\n\nCome along and see the photos and hear the stories from this years Christmas trip to the Kahurangi National Park and Golden Bay.\n\n  Everyone is welcome.  The social evenings are a great way of connecting\, and staying in touch with all your NSTC tramping friends.\n  Social evenings are held on the last Wednesday of every second month.\n  A light supper is provided.\n  Time: 7.30pm\n  Location: Senior Citizens Hall (behind Massimo cafe)\, 7 The Strand\, Takapuna.  See here for how to find the hall.\n\n  Cost: Free\n\n\n
DTSTAMP:20260424T125612Z
END:VEVENT
END:VCALENDAR
