BEGIN:VCALENDAR
VERSION:2.0
METHOD:PUBLISH
BEGIN:VEVENT
UID:WILD_APRICOT_EVENT_2742135_SESSION_1
DTSTART:20180217T200000Z
DTEND:20180217T200000Z
SUMMARY:Little Shoal Bay - Le Roys Bush - Kauri Point/Centennial Park - Kauri Glen\, North Shore
LOCATION:Car park at Little Shoal Bay Beach Reserve
DESCRIPTION:https://www.nstc.org.nz/event-2742135\n\n   Join us to find out how surprisingly many bush areas with large trees there are still left around Northcote and Birkenhead.   A good variety of tracks\, neat board-walked areas\, with a few hills so our muscles don't get lazy.  \n\n    Beautiful vistas across Kendall Bay about a third of the way into the tramp.  Stunning stands of Kauri through out the walk\, so it goes without saying please ensure your boots/shoes/walking poles etc are scrupulously clean before and cleaned after the tramp.  \n    Meet:  9.00 am\, in the car park at Little Shoal Bay Beach Reserve beside Maritime Terrace.\n\n    \n\n    Cost:   Free to all  - no bus today \n\n    Organiser:   Imogen   027 289 8440 (newbies\, no texts please).\n    Route Map:  Online / Printable - Part A & Part B\n\n 
DTSTAMP:20260424T125417Z
END:VEVENT
END:VCALENDAR
