BEGIN:VCALENDAR
VERSION:2.0
METHOD:PUBLISH
BEGIN:VEVENT
UID:WILD_APRICOT_EVENT_2742130_SESSION_1
DTSTART:20180210T200000Z
DTEND:20180210T200000Z
SUMMARY:Oneroa Peninsula\, Waiheke Island
LOCATION:Ferry terminals: Devonport or Downtown
DESCRIPTION:https://www.nstc.org.nz/event-2742130\n\nSomething for everyone to enjoy. Bring your camera for stupendous views. Swims and coffee are optional.  Due to storm damage on the track at Church Bay\, the routes have been changed:\n      * Starting at the ferry terminal\, we will head north along the coast to via Owhanake Bay to Oneroa\n\n\n        * Lunch\, and there will be time for a swim at Oneroa Beach\n\n\n        * Depending on the energy levels and the time remaining\, you can return to the ferry using the direct walk via the Ocean View Road track\, or the longer route via Blackpool Beach and Te Wiro Bay\n\n\n  A distance party will travel anticlockwise from Matiatia to Church Bay\, and onto Park Point and Te Wharau Bay. Then up the hill for a short road walk to the Pio Rehutai Reserve and a bush track to the trig point\, with great views over the island. A short road walk to another reserve and descent to Blackpool. Then up Tui Road to Oneroa\, stopping for a swim or a coffee if desired.\n  Depending on energy levels\, there’s a choice of tracks back to the ferry. The longest will be along the beach and via the Auckland University vineyard to Island Bay\, onto Owhanaki and Matiatia. The shortest will do the reverse of the longer route\, omitting Park Point and dropping down to the coast at Church bay. \n\n  Low tide 11:00 am\, high 5:11 pm.\n  Bookings:  You may prebook the ferry tickets with Fullers at  https://www.fullers.co.nz/destinations/waiheke-island/\n\n  Ferry departures to Waiheke Island:\n\n      * From Downtown Auckland - 9.00 am\n\n        * From Devonport - 9.10 am\n\n        * Arrives Waiheke - 9.40 am\n\n\nPlease be at the terminal 30 minutes before the ferry departs.\n  Ferry departures from Waiheke Island:\n\n      * To Devonport & Downtown - 4.00 pm.  Services are also available at 12:00 pm\, 2:00 pm and 6:00 pm\n\n\n        * To Downtown direct (no stop at Devonport) - on the hour and half hour until 8pm\n\n\n  Cost:\n\n      * Adult - $38 return\n\n        * Super Gold Card holders - free\n\n\nOrganiser: John Lamb 410 5211 / 021 227 3614  Maps: (updated Wed 7 Feb 2018)\n\n      * Matiatia to Oneroa via Owhanake Bay (approx 2 hours) - online / printable  - a short section of the track is closed due to storm damage near Hakaimango Point\, so divert via Korora Road\n\n        * Oneroa to Matiatia via Ocean View Road (25 to 30 mins) - online / printable\n\n        * Oneroa to Matiatia via Te Wiro Bay and Blackpool Beach (approx 2.5 hours) - online / printable\n\n\nSorry - the following longer routes can't be used this time due to storm damage at Church Bay:      * Oneroa to Matiatia via Church Bay - online / printable\n\n\n        * Matiatia to Oneroa via Park Point - online / printable\n\n\n
DTSTAMP:20260424T130357Z
END:VEVENT
END:VCALENDAR
