BEGIN:VCALENDAR
VERSION:2.0
METHOD:PUBLISH
BEGIN:VEVENT
UID:WILD_APRICOT_EVENT_2742126_SESSION_1
DTSTART:20180120T200000Z
DTEND:20180120T200000Z
SUMMARY:Tawharanui\, North Auckland
LOCATION:The Strand\, Takapuna or Silverdale Park & Ride
DESCRIPTION:https://www.nstc.org.nz/event-2742126\n\nThe Tawharanui peninsula is a pest-free habitat\, so treasured native species like bellbirds\, whiteheads\, geckos and kiwi thrive here.\n  The park has multiple tracks of varying length\, but times will be flexible depending on how many photos of birds you want to take. If the weather is nice and sunny\, you can go for a dip afterwards\, so make sure you bring your togs.\n  Time: 9:00am The Strand\, Takapuna.  9:15am Silverdale Park & Ride\n\n  Cost: $15 member\, $20 non-members\n\n  Organiser: Annika Werner 027 374 7469\n
DTSTAMP:20260424T143525Z
END:VEVENT
END:VCALENDAR
