BEGIN:VCALENDAR
VERSION:2.0
METHOD:PUBLISH
BEGIN:VEVENT
UID:WILD_APRICOT_EVENT_2742124_SESSION_1
DTSTART:20180203T193000Z
DTEND:20180203T193000Z
SUMMARY:Atiu Creek\, Kaipara Harbour
LOCATION:The Strand\, Takapuna
DESCRIPTION:https://www.nstc.org.nz/event-2742124\n\nThere's something for everyone in this Regional Park that was gifted to Auckland City in 2018 by Jackie and Pierre Chatelanat who wanted to ensure that all New Zealanders could enjoy access to the Kaipara Harbour and that the cultural heritage values would be protected.  Please ensure you bring lots of water\, hat and sunscreen.\n \n Depart:\n\n      * 8.30am at The Strand\, Takapuna\n\n        * 8:45am Silverdale Park and Ride bus stop    \n\n  Cost: \n\n      * $20 member\n\n        * $25 non-members\n\n\nOrganiser: Peter Wortman 021 996 242  Maps:  Download Auckland Council park map here.\n\n  Please note early departure time.\n
DTSTAMP:20260424T125501Z
END:VEVENT
END:VCALENDAR
