BEGIN:VCALENDAR
VERSION:2.0
METHOD:PUBLISH
BEGIN:VEVENT
UID:WILD_APRICOT_EVENT_2742122_SESSION_1
DTSTART:20171216T190000Z
DTEND:20171216T190000Z
SUMMARY:Puhoi\, North Auckland
LOCATION:The Strand\, Takapuna or Silverdale Park and Ride
DESCRIPTION:https://www.nstc.org.nz/event-2742122\n\nFor a pre-Christmas trip work out\, or for a more leisurely outing\, join us in the hills and bush around the picturesque village of Puhoi.  Routes are planned for all parties and include the well formed Puhoi to Remiger Road section of Te Araroa. Other places of interest are the Sugar Loaf rock formations and for the more energetic a loop track through the QEII covenanted Dunn's Bush.\n  Organiser:  Eileen Wintle 09 431 4901 / 021 293 6211\n  Route Maps:\n\n      * Distance Party -  Puhoi to Auroha Rd and return via Dunns Bush - online / printable \n\n\n        * Medium Party - Remiger Road\, Dunns Bush Loop and return to Puhoi - online / printable \n\n\n        * Shorter Party - Remiger Road to Puhoi Return- online / printable \n\n\n  Cost: $10 members\, $15 non-members\n  Please note 8:00 am departure time\, or option of 8:15am pickup from Silverdale Park and Ride carpark.\n
DTSTAMP:20260424T125221Z
END:VEVENT
END:VCALENDAR
