BEGIN:VCALENDAR
VERSION:2.0
METHOD:PUBLISH
BEGIN:VEVENT
UID:WILD_APRICOT_EVENT_2718934_SESSION_1
DTSTART:20171109T063000Z
DTEND:20171109T063000Z
SUMMARY:November Committee Meeting
LOCATION:Pats\, 30b Barker Rise\, Northcross Ph 027 327 2879
DESCRIPTION:https://www.nstc.org.nz/event-2718934\n\n\n\n
DTSTAMP:20180122T101512Z
END:VEVENT
END:VCALENDAR
