BEGIN:VCALENDAR
VERSION:2.0
METHOD:PUBLISH
BEGIN:VEVENT
UID:WILD_APRICOT_EVENT_2662138_SESSION_1
DTSTART:20180420T070000Z
DTEND:20180425T120000Z
SUMMARY:Extended ANZAC Weekend - Coastal Walk: Kapiwairua – Te Paki Stream\, Far North
LOCATION:Carpark cnr Auburn & Como Sts\, Takapuna
DESCRIPTION:https://www.nstc.org.nz/event-2662138\n\nThis trip was cancelled last Easter due to road closures and extreme\n weather warnings. We will have another go at it.\n  A four day coastal classic tramp or the option of day tramps from\n the bus at DOC campsites.\nOut party – Coastal Classic route 48kms      * Saturday – from Kapowairua tramp thru to Pandora campsite - 3.5hrs (plus side trip to trig).\n\n        * Sunday – Pandora thru to Tapotupotu Bay DOC campsite - 5.5 hrs\n\n        * Monday – Tapotupotu to Twilight Campsite - 7-8hrs\n\n        * This is the longest and day. In the morning you will tramp for 3hrs up to Cape Reinga and then descend down to Te Werahi. You will be able drop your back and head out on the spectacular landscape out towards Cape Maria Van Diemen. Pick up your pack and continue on the Twilight beach campsite.\n\n        * Tuesday – Twilight to Te Paki Stream - 4.5hrs\n\nDay/Bus Party Option  We will camp on Friday night at Rawana Beach DOC camp. Then continue on to Kapowairua in the morning.\n\n      * Saturday – Tramp along the beach towards Pandora and or explore around the Kapowairua (Spirits Bay) campsite.\n\n        * Sunday – Drive around to Tapotupotu Bay and then tramp the coastal track via Sandy Bay to Cape Reinga. 6 hr return.\n\n        * Monday – Bus up the hill to the start of the Te Werahi Loop track. This is a spectacular tramp out towards Cape Maria Van Diemen. 5-6hrs.\n\n        * Tuesday – Drive from DOC campsite down to Te Paki Stream car park. Walk out to coast and on return try sliding down the big dunes. Overnight DOC camp on way south – Mangamuka\n\n        * Wednesday (ANZAC) – A leisurely drive back to Takapuna.\n\n  Costs $210 - includes all DOC camping site fees for 5 nights\n\n  Bring your own tent\, food and cooker.\n\n  Organiser: Helen Orchard 09 444 1397\n\n  Bookings: Register via the website\, or contact John Lamb at bookings@nstc.org.nz\, or ph 021 227 3614.\n
DTSTAMP:20180122T100425Z
END:VEVENT
END:VCALENDAR
