BEGIN:VCALENDAR
VERSION:2.0
METHOD:PUBLISH
BEGIN:VEVENT
UID:WILD_APRICOT_EVENT_2662053_SESSION_1
DTSTART:20180106T190000Z
DTEND:20180106T190000Z
SUMMARY:Long Bay to Okura\, North Shore
LOCATION:Long Bay
DESCRIPTION:https://www.nstc.org.nz/event-2662053\n\nFollowed by a post-Christmas lunch. Please bring a plate to share.\n  Join us for an 8.00 am start to avoid the crowds\, secure a carpark and avoid the late-afternoon heat. With low tide at 5.58 am\, we’ll enjoy the stunning views across the clifftops\, which are now starting to be covered by all the planted trees\, growing noticeably taller in certain areas.\n\n  Being the middle of summer\, running shoes or trail shoes (or tramping boot) will be fine for this tramp. A couple more bits will be added for variety. Don’t forget to bring your phone or camera and swimming gear for a swim afterwards at another beach. Please ensure you have plenty of water. Route maps will be supplied. \n  Organiser:  Imogen 0272 898 440 (no texts please)\n\n  Cost: N/A No bus this week\n\n  Please note 8:00 am departure time from Long Bay.  First carpark on the right (hard right after you come over the one-way bridge at Long Bay.)\n
DTSTAMP:20180122T100956Z
END:VEVENT
END:VCALENDAR
