BEGIN:VCALENDAR
VERSION:2.0
METHOD:PUBLISH
BEGIN:VEVENT
UID:WILD_APRICOT_EVENT_2662045_SESSION_1
DTSTART:20171209T200000Z
DTEND:20171209T200000Z
SUMMARY:Waharau Regional Park\, Hunua Ranges
LOCATION:The Strand\, Takapuna
DESCRIPTION:https://www.nstc.org.nz/event-2662045\n\nChange of Destination  Following the Auckland Council decision this week to close 13 more tracks in the Waitakere ranges\, and including part of the routes originally planned Sunday\,  the destination for this weeks trip has been changed to the Hunua ranges.\n\nWaharau Regional Park is on the eastern side of the Hunua ranges\, overlooking the Firth of Thames\, and across to the Coromandel Peninsula. Join us today for a good workout\, spectacular views and excellent company.  Short\, medium and long-distance routes available.\n  Cost:  $15 members\; $20 non-members\nOrganiser: Lynda Langridge 027 319 9580  Routes Maps:\n\n      * Short route - Adams Lookout - online / printable\n\n        * Medium route - Adams Lookout & Whakatiwai Ridge - online / printable\n\n\n        * Distance route - Loop to Kohukohunui - online / printable\n\n\n
DTSTAMP:20260424T130337Z
END:VEVENT
END:VCALENDAR
