BEGIN:VCALENDAR
VERSION:2.0
METHOD:PUBLISH
BEGIN:VEVENT
UID:WILD_APRICOT_EVENT_2662041_SESSION_1
DTSTART:20171202T203000Z
DTEND:20171202T203000Z
SUMMARY:Tiritiri Matangi\, Gulf
LOCATION:Gulf Harbour Wharf Pier Z
DESCRIPTION:https://www.nstc.org.nz/event-2662041\n\nThis island represents an amazing opportunity to see some unique native treasures. Tiritiri Matangi is rich in Māori and European history with one of the most successful community-lead conservation projects in the world.\n  Unwanted predators have been eradicated and rare native birds such as the saddleback\, kōkako and the takahē (once thought to be extinct) survive and thrive in restored habitats within regenerating native forest.\n  The ferry arrives at Tiri Tiri around 10:30am and gets back to Gulf Harbour at about 4:00pm. \n  Ferry options:\n      * Gulf Harbour Pier Z - Meet at 9.30am for the 9:50am ferry.  Return cost - $60 (adult)\n\n      * or Downtown Auckland - Pier 4\, Quay St - catch the ferry departing at 9:00am\, travel to Gulf Harbour to meet the rest of the group\, and then to the island.  Return cost - $75 (adult)\n\n  Bookings are essential.  Please book your own fare with Fullers / 360 Discovery Cruises\, Ph 307 800 or www.fullers.co.nz.\nOrganiser: Mark Abela 483 4158 / 021 0223 9281  Maps: Tiritiri Matangi - online / printable\n  PLEASE NOTE SPECIAL DEPARTURE LOCATIONS AND TIMES\n
DTSTAMP:20260424T130237Z
END:VEVENT
END:VCALENDAR
