BEGIN:VCALENDAR
VERSION:2.0
METHOD:PUBLISH
BEGIN:VEVENT
UID:WILD_APRICOT_EVENT_2662038_SESSION_1
DTSTART:20171125T190000Z
DTEND:20171125T190000Z
SUMMARY:Hakarimata\, Waikato
LOCATION:The Strand\, Takapuna
DESCRIPTION:https://www.nstc.org.nz/event-2662038\n\nThis walkway goes along the undulating forested crest of the Hakarimata Range\, and at the highest point of 374 metres there is a great view out over the Waikato with Hamilton in the background. There’s also a summit tower for an even better view. Expect to be walking for 6–7 hours if you want to go the full distance.\n  Another party will do a shorter southern circuit\, which includes the scenic Waterworks Track\, the lookout and the Hakarimata Rail Trail.\n  Cost: $20 members\, $25 non-members\n\nOrganiser: Annika Werner 027 374 7469  PLEASE NOTE 8.00 AM DEPARTURE TIME\n\n
DTSTAMP:20260424T150554Z
END:VEVENT
END:VCALENDAR
