BEGIN:VCALENDAR
VERSION:2.0
METHOD:PUBLISH
BEGIN:VEVENT
UID:WILD_APRICOT_EVENT_2662035_SESSION_1
DTSTART:20171118T193000Z
DTEND:20171118T193000Z
SUMMARY:Ernies Track\, Hunua Ranges
LOCATION:The Strand\, Takapuna
DESCRIPTION:https://www.nstc.org.nz/event-2662035\n\nErnies and Lilburne Tracks provide a mixture of bush and open vistas in this part of the Hunuas. Medium and distance parties will add on the Rata Ridge Track to complete a full and satisfying tramping day.\n  Cost: $15 members\, $20 non-members\n Organiser:    Paul de Vos - Ph 623 2015\n Route Maps: Ernies and Lilburne Tracks - online / printable\n\n  PLEASE NOTE 8.30 AM DEPARTURE TIME\n\n
DTSTAMP:20180122T101427Z
END:VEVENT
END:VCALENDAR
