BEGIN:VCALENDAR
VERSION:2.0
METHOD:PUBLISH
BEGIN:VEVENT
UID:WILD_APRICOT_EVENT_2662025_SESSION_1
DTSTART:20171104T200000Z
DTEND:20171104T200000Z
SUMMARY:Karekare\, Waitakeres
LOCATION:The Strand\, Takapuna
DESCRIPTION:https://www.nstc.org.nz/event-2662025\n\nCome out to Karekare for a great day in the hills and on the beach. \n  Short Party:\n\n  Start from Log Race Road\, down via Comans Track and visit the Karekare waterfall. Out to the sand dunes and through the old train tunnel and back along the beach to the pickup at Karekare. \n\n      * Part 1 - Log Race Road to Karekare (but not the return leg to Log Race Road)\n\n        * Part 2 - Tunnel Point returning to Karekare\n\nMedium Party:  Start from Log Race Road\,  down via Comans Track\, visit the Karekare waterfall\, up Zion Hill Track and down Buck Taylor Track to the beach. Through the tunnel and up Ahu Ahu Track\, and return to the bus at Log Race Road.\n\n      * Part 1 - Log Race Road to Karekare Loop\n\n\n        * Part 2 - Karekare and Zion Hill Loop\n\n\n  Distance Party:\n  Start from Log Race Road\,  down via Comans Track\, visit the Karekare waterfall\, up Zion Hill Ridge Track and down Buck Taylor Track to the beach. Through the tunnel and up Ahu Ahu Track\, and return to the bus at Log Race Road.\n      * Part 1 - Log Race Road to Karekare Loop\n\n        * Part 2 - Karekare and Zion Hill Ridge Loop\n\n     Cost: $10.00 members\, $15 non-members\n\nOrganiser:   Hyeonjoo Lee 021 833 505\n 
DTSTAMP:20180122T101523Z
END:VEVENT
END:VCALENDAR
