BEGIN:VCALENDAR
VERSION:2.0
METHOD:PUBLISH
BEGIN:VEVENT
UID:WILD_APRICOT_EVENT_2662023_SESSION_1
DTSTART:20171028T200000Z
DTEND:20171028T200000Z
SUMMARY:Kaipatiki Coastal Reserves\, North Shore
LOCATION:Meet at 9:00 am at the Glenfield Rd entrance to Birkenhead Domain near Eskdale Rd\, just past the cemetery (no bus today)
DESCRIPTION:https://www.nstc.org.nz/event-2662023\n\nMeet at the Glenfield Rd entrance to Birkenhead Domain near Eskdale Rd\, just past the cemetery. Walk down through this reserve and the Eskdale Reserve waterfall to Kaipatiki Rd. Cross the road to Witheford Reserve and the Glenfield coastal walkway. Follow this past Manuka Rd Reserve to Lynn Reserve. Then back up past the the large kauri to Morriggia Place Reserve and loop back to Bryers Place. Hop across Manuka Rd to Witheford Reserve again and down to Kaipatiki Rd\, then back into Eskdale Reserve and up to Birkenhead Domain.  Meeting Point:  Google Maps\n  Route Map:\n      * Online at Alltrails.com\n\n\n        * Printable - Part 1 and Part 2\n\n  Cost: Free\n\n  Organiser:  Katy Johns  021 945 048\n  \n\n  \n\n  \n\n
DTSTAMP:20180122T101534Z
END:VEVENT
END:VCALENDAR
