BEGIN:VCALENDAR
VERSION:2.0
METHOD:PUBLISH
BEGIN:VEVENT
UID:WILD_APRICOT_EVENT_2660891_SESSION_1
DTSTART:20171014T190000Z
DTEND:20171014T190000Z
SUMMARY:Hapuakohe Walkway (northern end)\, Waikato
LOCATION:The Strand\, Takapuna
DESCRIPTION:https://www.nstc.org.nz/event-2660891\n\nA great day out\, with varied bush and magnificent views to the Huntly power station\, Mt Te Aroha\, the Hauraki Plains and the Gulf. The short and medium groups will do a 5-hour return trip from the northern end through to the second lookout. The distance group will walk the full length of the track for about 6 hours.\n  Time: 8.00 am at The Strand\n  Organiser:  John Lamb 410 5211 / 021 227 3614\n  Cost: $20.00 members / $25.00 non members\n  PLEASE NOTE 8:00 AM DEPARTURE TIME\n\n  See the planned route map for the distance party here. \n
DTSTAMP:20260424T150045Z
END:VEVENT
END:VCALENDAR
