BEGIN:VCALENDAR
VERSION:2.0
METHOD:PUBLISH
BEGIN:VEVENT
UID:WILD_APRICOT_EVENT_2655196_SESSION_1
DTSTART:20170909T210000Z
DTEND:20170909T210000Z
SUMMARY:Albany Tracks - Extra Tramp
LOCATION:former Mini-Golf street carpark corner of Oteha Valley Rd & Fairview Avenue\, Albany
DESCRIPTION:https://www.nstc.org.nz/event-2655196\n\nYou'll be very surprised how many bush tracks there are around Albany\, plus adding a few new tracks that the club hasn't visited yet.\n  With all the recent rain\, there will be some very mild muddy bits\, but nothing like Waitak's mud! We'll walk 5 hours plus\, and there will be quicker options to head back for those that need.\n  As there are no maps\, we'll move as one group\, unless someone else comes along that knows all the tracks.\n  There is coffee & loos at the Mobil petrol station on the opposite side of the road.\n\n  Depart: 9.00am Please meet us on the former Mini-Golf street carpark corner of Oteha Valley Rd & Fairview Avenue\, Albany.  Best parking is at the bottom of Fairview Ave\, just over the one lane bridge\, on the gravel parking on the right.\n  Organiser: Imogen 027 289 8440 (Please newbies no texts)\n  Cost: Nil to all - NO CLUB BUS THIS WEEK!!!!\n  AllTrails.Com Route Map\n  Albany Tracks\n  \n\n
DTSTAMP:20260424T130245Z
END:VEVENT
END:VCALENDAR
