BEGIN:VCALENDAR
VERSION:2.0
METHOD:PUBLISH
BEGIN:VEVENT
UID:WILD_APRICOT_EVENT_2609174_SESSION_1
DTSTART:20171007T200000Z
DTEND:20171007T200000Z
SUMMARY:Waitakeres - Twin Peaks\, Huia
LOCATION:The Strand\, Takapuna
DESCRIPTION:https://www.nstc.org.nz/event-2609174\n\nHave a stunning day tramping in the Southern Waitakeres. Great views over Huia and the Manukau Harbour. The tramp starts at the Huia Road carpark at Karamatura. The distance party will go clockwise to Weta Gully\, up Fletcher Track to Karamatura Forks. Along Huia Ridge Track to the junction with Twin Peaks Track. Right turn down Twin Peaks Track. A short back trip up Goat Hill Track if wanting to explore more before going down Twin Peaks Track to the bus.\n  The medium party will go anti-clockwise up Twin Peaks Track before turning left at the junction and down Huia Ridge Track to Karamatura Forks. Then down Karamatura Track to the bus.\n  Hopefully summer tramping might kick in so ensure you bring a sun hat\, sun block and lots of water.\n  Time: 9.00 am at The Strand\n  Organiser: Peter Wortman Phone: 021-996-242\n  Cost: $10.00 members / $15.00 non members\n  Planned Route Maps:  \n  Distance -  Goat Hill to Twin Peaks Track to Huia Ridge Track and Mount Donald Mclean Track except will go clockwise.\n\n  Medium - Similar to Te Toiokawharu Loop except starts on the Twin Peaks Track\n  \n\n  \n\n
DTSTAMP:20180122T101653Z
END:VEVENT
END:VCALENDAR
