BEGIN:VCALENDAR
VERSION:2.0
METHOD:PUBLISH
BEGIN:VEVENT
UID:WILD_APRICOT_EVENT_2609172_SESSION_1
DTSTART:20170930T190000Z
DTEND:20170930T190000Z
SUMMARY:Hunuas - Workman Track
LOCATION:The Strand\, Takapuna
DESCRIPTION:https://www.nstc.org.nz/event-2609172\n\n  Starting at Waharau Regional Park / Workman Road and walking the length of Workman Track.This is not a track for beginners and involves two groups doing a crossover. Workman Track is steep and narrow in parts with plenty of slippery tree roots. This track can be a wonderfully good 9.5km 16km workout. Lots of great views along the way so bring your camera.\n  Departure: 8am at The Strand\n  Organiser: Lynda Langridge Phone: 482-1320\n  Mob: 027-3199-580\n  Cost: $20 Members / $25 Non Members\n  Map: See the planned route map here.\n  PLEASE NOTE 8.00 AM START TIME\n  \n\n
DTSTAMP:20260424T145236Z
END:VEVENT
END:VCALENDAR
