BEGIN:VCALENDAR
VERSION:2.0
METHOD:PUBLISH
BEGIN:VEVENT
UID:WILD_APRICOT_EVENT_2609170_SESSION_1
DTSTART:20170922T120000Z
DTEND:20170924T120000Z
SUMMARY:Cancelled - Trip Leader Training Weekend - Pukenui Forest\, Whangarei
LOCATION:Pukenui Forest on the outskirts of Whangarei
DESCRIPTION:https://www.nstc.org.nz/event-2609170\n\nSorry\, cancelled.  We have had to cancel the training weekend due to pest control in the park preventing us going off track.  We are looking to reschedule for another time in 2018.\n  Your chance to learn more about planning and leading club trips.\n  Items covered:\n\n      * Risk Management in the Outdoors\n\n\n        * Emergency Scenarios\n\n\n        * Problem Scenarios\n\n\n        * The Weather\,Basic Principles\n\n\n        * Hypothermia\n\n\n        * Loss of route and SAR\n\n\n        * Leadership and Trip Planning\n\n\n        * Shelter\n\n\n        * And time for your questions\n\n\n  Will be run by Bob Moscrip (Former MSC Bush 2 instructor and Bush Assessor). \n  Where: A sleepout weekend in the lovely Pukenui Forest on the outskirts of Whangarei.\n  Travel - Saturday morning\; home Sunday PM\nTransport - private car / shared cost.\n  Course fee - Free.\n  Book early as numbers will be limited to 10 members. If you are interested please contact:\n  Bob Moscrip phone 09-435 7317 evenings\n  or the Club trips booking officer - Karen Russell - mobile 021 118 2073\, home (09) 554 1132 or email bookings@nstc.org.nz.\n\n  \n\n  \n\n
DTSTAMP:20180122T101809Z
END:VEVENT
END:VCALENDAR
