BEGIN:VCALENDAR
VERSION:2.0
METHOD:PUBLISH
BEGIN:VEVENT
UID:WILD_APRICOT_EVENT_2609135_SESSION_1
DTSTART:20170902T211500Z
DTEND:20170902T211500Z
SUMMARY:Rangitoto Island - 49th Anniversary Trip
LOCATION:Ferry Terminal - Downtown Auckland for 9:15am ferry or Devonport for 9:25am ferry
DESCRIPTION:https://www.nstc.org.nz/event-2609135\n\nRetrace the steps of the Club’s foundation members with the traditional annual trip. Flexibility is the plan. Trek around the Island or climb up to the summit. \n  This year there is no option doing part of Motutapu Island as it is closed to the public until further notice due to severe weather damage.\n  Bring a headlamp or torch in case you visit the supercool Lava Caves near the summit.  Also have ample food and water\, as it's usually about 4 degrees warmer on this volcanic island.\n  The North Shore Marathon will be "run" on foothpaths alongside Lake Road between the Takapuna shops and Takapuna Grammar.  Although no roads will be closed\, you should allow extra time to get to Devonport in case of traffic congestion.    More details are here - North Shore Marathon Route.\n  Time: Ferry leaves Downtown Terminal at 9.15am and Devonport Wharf at 9.25am.\n  Organiser: John Lamb\n  Phone: 410-5211\n  Mobile: 021-227-3614\n  Ferry cost $30.00 Adult / $15.00 Child \n  Routes:\n  Short/Medium Parties - Via coast past the  historic holiday cottages to Mackenzie Bay\, summit\, lava caves and Kidney Fern Glen.\n  Distance - Via the Coastal track to Islington Bay\, summit\, Mackenzie Bay and historic cottages.\n
DTSTAMP:20260424T130459Z
END:VEVENT
END:VCALENDAR
