BEGIN:VCALENDAR
VERSION:2.0
METHOD:PUBLISH
BEGIN:VEVENT
UID:WILD_APRICOT_EVENT_2609128_SESSION_1
DTSTART:20170826T210000Z
DTEND:20170826T210000Z
SUMMARY:Waitakeres - Lower Nihotupu Reservoir
LOCATION:The Strand\, Takapuna
DESCRIPTION:https://www.nstc.org.nz/event-2609128\n\nStarting from Arataki Visitor Centre on the Scenic Drive. Beveridge Track to Mackies Rest\, down Exhibition Drive and onto Pipeline Road. A short way down there is a wide grass track that exits on Huia Road at the top of the Parau Hill. Down to the dam and up the road past the Rangers House and then along Nihotupu Dam Road ( back of the dam ). Incline Track to the top then along to Greenwoods Corner. Exit here to the Scenic Drive and back up to Arataki.\n  Depart 9.00am from The Strand\n  Organiser: Rod Newbold\,   Phone: 480-4343\n  Route Map: Lower Nihotupu Reservoir\n  Cost:\n\n  $10.00 Members \n  $15.00 Non Members \n  \n\n
DTSTAMP:20180122T101947Z
END:VEVENT
END:VCALENDAR
