BEGIN:VCALENDAR
VERSION:2.0
METHOD:PUBLISH
BEGIN:VEVENT
UID:WILD_APRICOT_EVENT_2609127_SESSION_1
DTSTART:20170819T210000Z
DTEND:20170819T210000Z
SUMMARY:Waitakeres - Cornwallis to Parau
LOCATION:5 The Strand\, Takapuna
DESCRIPTION:https://www.nstc.org.nz/event-2609127\n\nNote - Changed Trip and Start Time\n  Due to track closures at Maungatawhiri Reservoir this Sunday’s tramp will now be as follows:\n  We will start at Cornwallis Regional Park on the shore of the Manukau and cover all the tracks out to Puponga Point. Then we will head up the Peninsula and cross the road and pick up the Parau Track.\n  This will take up through to near the Parau Dam.\n  Note the departure time is the normal 9.00am from the Strand.\n  Cost $10 members\n  $15 non members\n  Organiser- Paul de Vos\n  Driver – Helen Orchard – 09 4441397\n  \n\n  \n\n
DTSTAMP:20180122T102010Z
END:VEVENT
END:VCALENDAR
