BEGIN:VCALENDAR
VERSION:2.0
METHOD:PUBLISH
BEGIN:VEVENT
UID:WILD_APRICOT_EVENT_2609125_SESSION_1
DTSTART:20170812T210000Z
DTEND:20170812T210000Z
SUMMARY:Waitakeres - Lone Kauri Loop/Karekare
LOCATION:The Strand\, Takapuna
DESCRIPTION:https://www.nstc.org.nz/event-2609125\n\nA great area for a walk in the Waitakeres beginning and ending at Lone Kauri Road. Descending from Orange Peel Corner there are extensive views west down the ridge with the ocean in the distance. From the Muir Track you get an excellent view of Old Baldy and then descend down into the valley below before climbing back up onto the ridge and back to Sybil Goose. A fine day is promised by the Sun Gods.\n  Parties to suit all trampers.\n  Depart: 9.00am from The Strand\n  Organiser: Roger Parsons Phone: 4190552\n  or books@parsons.co.nz\n  Cost:\n  $10.00 members \n  $15.00 non members\n  $5.00 juniors\n  \n\n
DTSTAMP:20260424T145800Z
END:VEVENT
END:VCALENDAR
