BEGIN:VCALENDAR
VERSION:2.0
METHOD:PUBLISH
BEGIN:VEVENT
UID:WILD_APRICOT_EVENT_2608047_SESSION_1
DTSTART:20171129T053000Z
DTEND:20171129T053000Z
SUMMARY:November Social Evening
LOCATION:Bivouac Outdoor\,  Shop 11\, Albany Mega Centre (between General Issue and Lighting Direct)\, Don McKinnon Drive\, Albany
DESCRIPTION:https://www.nstc.org.nz/event-2608047\n\nBivouac Tech Night - all welcome.\n  We hope you can join us for an enjoyable\, informative and interesting tech night.\n  Our knowledgeable speaker will go through technical aspects of boots\, coats and other tramping gear to help us get the best out of our gear and what to look out for to ensure you have the best gear for your comfort. Equally beneficial to newbie and experienced trampers alike.\n  Not forgetting the bonus of Bivouac offering financial members of the North Shore Tramping Club\, upon showing your current Federated Mountain Clubs card\, a generous discount.\n  Note for this meeting only:\n      * If you plan to attend\, please register on the website\n\n        * Replaces the usual bi-monthly social meeting\n\n        * Change of location and 6:30pm start\n\n
DTSTAMP:20180122T101352Z
END:VEVENT
END:VCALENDAR
