BEGIN:VCALENDAR
VERSION:2.0
METHOD:PUBLISH
BEGIN:VEVENT
UID:WILD_APRICOT_EVENT_2608041_SESSION_1
DTSTART:20171011T063000Z
DTEND:20171011T063000Z
SUMMARY:October Committee Meeting
LOCATION:
DESCRIPTION:https://www.nstc.org.nz/event-2608041\n\n\n\n
DTSTAMP:20180122T101641Z
END:VEVENT
END:VCALENDAR
