BEGIN:VCALENDAR
VERSION:2.0
METHOD:PUBLISH
BEGIN:VEVENT
UID:WILD_APRICOT_EVENT_2606914_SESSION_1
DTSTART:20180126T193000Z
DTEND:20180129T110000Z
SUMMARY:Anniversary Weekend: Hunuas\, South Auckland
LOCATION:Carpark cnr Auburn & Como Sts\, Takapuna
DESCRIPTION:https://www.nstc.org.nz/event-2606914\n\nA multi-day trip through the Hunuas.\n  Saturday: From Waharau\, tramp through to Piggotts Campground.\n\n  Sunday: Tramp to Workman Campground and then out to Waharau on Monday.\n  Transport:  Private car\n\n  Cost:\n\n      * Transport - share of car cost\n\n        * Campgrounds - $8 each night\n\n     Bookings:          * Campgrounds - book asap as space is limited - Piggotts Sat 27 Jan & Workman Sun 28 Jan\n\n\n          * To book\, call Auckland Council (09) 366 2000\, option 1\, between 8am–8pm Monday to Sunday including public holidays.  Due to high demand for bookings at weekends\, they recommend:\n\n          *            * to make bookings during weekdays and make multiple bookings at one time\n\n              * to have booking and credit card details ready\n\n     \n\n          * More information about booking with the council is here.\n\n\n          * Club - register through the club website\, or contact John Lamb on 021 227 3614\n\n\n      Maps:\n          * Online here\n\n          * Printable - Part A / Part B\n\n\n      Contacts: Helen Orchard 444 1397                         Roger Parsons  419 0552 / 021 277 1944 / books@parsons.co.nz 
DTSTAMP:20180122T100816Z
END:VEVENT
END:VCALENDAR
