BEGIN:VCALENDAR
VERSION:2.0
METHOD:PUBLISH
BEGIN:VEVENT
UID:WILD_APRICOT_EVENT_2606903_SESSION_1
DTSTART:20170805T210000Z
DTEND:20170805T210000Z
SUMMARY:Te Araroa Walkway -   Takapuna to Long Bay
LOCATION:The Strand\, Takapuna
DESCRIPTION:https://www.nstc.org.nz/event-2606903\n\n\n  Leaving from The Strand as usual\, but this time on foot.Walking along beaches and bits of path to Long Bay and returning by bus. Rocky path to Milford\, over the new bridge and on. Probably we will all need to take the coast path between Mairangi Bay and Murrays Bay due to storm damage to the Cliff Walkway.\nOptions for alternatives are bus back from Browns Bay ( or walk back ) and a fast party may choose to do the Long Bay Cliff Walk on arrival there. Low tide is at 12.18pm\, high tide at 6.00am.\nBring bus fare or Gold Card for the return bus trip.\n \nDepart:          9.00am at The Strand\nOrganiser:     Trish Jenner                       Phone: 445 3645\n Cost:              Nil apart from return bus fare to Takapuna\n                                                                   Mob:    021-215-3372\n\n  Route map - Takapuna to Long Bay\n
DTSTAMP:20260424T145857Z
END:VEVENT
END:VCALENDAR
