BEGIN:VCALENDAR
VERSION:2.0
METHOD:PUBLISH
BEGIN:VEVENT
UID:WILD_APRICOT_EVENT_2606901_SESSION_1
DTSTART:20170729T210000Z
DTEND:20170729T210000Z
SUMMARY:Goldie Bush / Mokoroa Stream/Te Henga
LOCATION:The Strand\, Takapuna
DESCRIPTION:https://www.nstc.org.nz/event-2606901\n\nSlow and Medium Party from Constable Road through\nMotutara Scenic Reserve\,across Mokoroa Stream then into the Goldie Bush Scenic Reserve with the lovely coastal forest. Then via Mokoroa Stream track to the Mokoroa Falls  track with good views of the falls then back to the road end.\n For the Fast Party it’s Te Henga from Constable Road along Tirikohua Point\,Te Whaaroa Bay and O’Neill’s Bay to Bethells Beach.\n  \n Depart:         9.00am from The Strand\n Organiser:    Annika Werner   Mob 027-374-7469\n Cost:             $15 members\n                       $20 non members\n                       $5  juniors  Routes:\n      * Slow/Medium Parties - Goldies Bush\n\n\n        * Distance Party - Te Henga Walkway - today's route starts from Constable Road\n\n\n  \n
DTSTAMP:20180122T102043Z
END:VEVENT
END:VCALENDAR
