BEGIN:VCALENDAR
VERSION:2.0
METHOD:PUBLISH
BEGIN:VEVENT
UID:WILD_APRICOT_EVENT_2606897_SESSION_1
DTSTART:20170721T070000Z
DTEND:20170723T120000Z
SUMMARY:Mataia Farm Kaipara Harbour - Weekend
LOCATION:Como Street\, Takapuna
DESCRIPTION:https://www.nstc.org.nz/event-2606897\n\n\n  Come and enjoy a new area for tramping. Mataia is on the Kaipara Harbour\, one hour north of Auckland.\n  The Mataia Farm has been in the Gardner family since it was purchased from the local Maori chief Hori Te Totara in 1868. The Mataia Restoration Project was started in 2000 and involved fencing off and retiring 400 hectares of the farm. Intensive predator control\, as well as extensive replanting\, has seen the flora and fauna thrive. North Island brown kiwi were released on the farm in 2012. We will make a $10-per-person donation to the restoration project.\n  The cottage and walks are on a large (1600 hectare) private farm. The self-contained cottage has a full kitchen\, living room and four bedrooms\, plus an extensive view of the Kaipara Harbour.\n  The weekend trip is limited to 10 trampers. Bookings close 6 July.\n  Depart 7:00 pm at Como Street\n  Cost Two nights’ accommodation at Mataia Cottage\n  $55 members\n  $60 non-members\n  Organiser Roger Parsons\n  419 0552\n  books@parsons.co.nz\n  Bookings - contact Karen Russell mobile 021 118 2073 or home 09 554 1132 or email bookings@nstc.org.nz \n  \n\n
DTSTAMP:20180122T102115Z
END:VEVENT
END:VCALENDAR
