BEGIN:VCALENDAR
VERSION:2.0
METHOD:PUBLISH
BEGIN:VEVENT
UID:WILD_APRICOT_EVENT_2606891_SESSION_1
DTSTART:20170722T210000Z
DTEND:20170722T210000Z
SUMMARY:Mataia / Kaipara Harbour - Day Trip
LOCATION:The Strand\, Takapuna
DESCRIPTION:https://www.nstc.org.nz/event-2606891\n\n\n  Come and enjoy a new area for tramping. Mataia is on the Kaipara Harbour one hour north of Auckland. The walk is on a large 1600 ha private farm . The Mataia Restoration Project was started in 2000 and involved fencing off and retiring 400 ha of the farm. Intensive predator control as well as extensive replanting has seen flora and fauna thrive. North Island Brown Kiwi were released on the farm in 2012.\nWe will make a $10.00 donation to the Restoration Project for each tramper on the trip. We will join the weekend party. See separate notice elsewhere in the Newsletter.\n \nDepart:        9.00 am from The Strand\nOrganiser:   Roger Parsons     books@parsons.co.nz\nCost:            $25  members               Phone: 4190552\n                    $30 non members\n                    $15  juniors\n(Please note the trip fare today includes the $10 per person donation in the "cost").  \n
DTSTAMP:20260424T145113Z
END:VEVENT
END:VCALENDAR
