BEGIN:VCALENDAR
VERSION:2.0
METHOD:PUBLISH
BEGIN:VEVENT
UID:WILD_APRICOT_EVENT_2593300_SESSION_1
DTSTART:20170708T210000Z
DTEND:20170708T210000Z
SUMMARY:Okura Walkway to Stillwater return - WINTER OPEN DAY!!
LOCATION:Haigh Access Road\, Redvale
DESCRIPTION:https://www.nstc.org.nz/event-2593300\n\nAs many of you will be aware the Okura Walkway was closed for a while and re-opened a few months ago with some cool new boardwalks to protect the Kauri roots. Once we reach the Karepiro Beach area\, you’ll spot Oyster Catchers and Dotterels foraging.  Bring your camera to capture the views especially from the cliffs above the historic old farm house\, Dacre Cottage and the shell banks are stunning.\n  Newbie's please contact the organiser to register your interest to attend.  \n Please consult the list at the top of the page "things to bring" and ensure you have ample food and water and expect to walk 4-5 hours depending on which group speed you are placed with.   Solid walking shoes or tramping boots maybe preferable as there maybe muddy & slippery patches on the track.  \n \n We will meet at the end of Haigh Access Road\, Redvale\, at the end of the turning head\, where the parking ceases.  \n Depart: 9.00am (NO BUS THIS WEEK)       Organiser: Imogen\n Cost: Free to all                                             Mobile: 027 289-8440  (No texts please!)\n  Route map - Okura to Stillwater\n  More details about the walk can be found here http://www.doc.govt.nz/okura-walkway\n  \n\n
DTSTAMP:20180122T102137Z
END:VEVENT
END:VCALENDAR
