BEGIN:VCALENDAR
VERSION:2.0
METHOD:PUBLISH
BEGIN:VEVENT
UID:WILD_APRICOT_EVENT_2593299_SESSION_1
DTSTART:20170701T210000Z
DTEND:20170701T210000Z
SUMMARY:Auckland City Coast to Coast Walk
LOCATION:The Strand\, Takapuna
DESCRIPTION:https://www.nstc.org.nz/event-2593299\n\nThe Coast to Coast Walk is a 16km hike across Auckland from one coast to the other\, from the Waitemata to the Manukau.It takes you through landscapes shaped by 600 years of Maori occupation\, and through some of our finest natural and built heritage areas offering panoramic views along the way.\n  The walkway is part of Te Araroa – the Long Pathway\, a continuous 3000km walking track from Cape Reinga to Bluff. Propose two groups in opposite directions. Cross over driver opportunity. Drop group at Auckland portside and take bus to Onehunga. With some walking from there in other direction and if one driver only\, they back track.\n\n  Time:              9am\, The Strand\, Takapuna  \n Organiser:      Campbell Elliot                       Phone: 418-0845\n Cost:                $10 members                         Mob: 021-155-3161\n                          $15 non members\n  Route Map: Auckland Coast to Coast\n
DTSTAMP:20260424T150605Z
END:VEVENT
END:VCALENDAR
